BEGIN:VCALENDAR
VERSION:2.0
PRODID:-//Sex, Darts &amp; Rock&#039;n Roll - ECPv5.16.4//NONSGML v1.0//EN
CALSCALE:GREGORIAN
METHOD:PUBLISH
X-WR-CALNAME:Sex, Darts &amp; Rock&#039;n Roll
X-ORIGINAL-URL:https://www.darts-nuernberg.de
X-WR-CALDESC:Events for Sex, Darts &amp; Rock&#039;n Roll
BEGIN:VTIMEZONE
TZID:Europe/Berlin
BEGIN:DAYLIGHT
TZOFFSETFROM:+0100
TZOFFSETTO:+0200
TZNAME:CEST
DTSTART:20220327T010000
END:DAYLIGHT
BEGIN:STANDARD
TZOFFSETFROM:+0200
TZOFFSETTO:+0100
TZNAME:CET
DTSTART:20221030T010000
END:STANDARD
END:VTIMEZONE
BEGIN:VEVENT
DTSTART;TZID=Europe/Berlin:20220528T203000
DTEND;TZID=Europe/Berlin:20220528T203000
DTSTAMP:20260421T102621
CREATED:20220409T214349Z
LAST-MODIFIED:20220409T214703Z
UID:5899-1653769800-1653769800@www.darts-nuernberg.de
SUMMARY:DSAB-LigaspielSchbigger Crew-Sex\, Darts & Rock'n Roll
DESCRIPTION:
URL:https://www.darts-nuernberg.de/event/dsab-ligaspielschbigger-crew-sex-darts-rockn-roll/
LOCATION:Sportsbar Classico\, Gugelstr. 157\, Nürnberg\, Bayern\, 90459
CATEGORIES:DSAB-Ligaspiel
END:VEVENT
END:VCALENDAR